BEGIN:VCALENDAR
VERSION:2.0
PRODID:-//Kino Tuškanac//Filmski programi//HR
BEGIN:VEVENT
UID:8b110f0f92fcb57b92e7094913715486@kinotuskanac.hr
DTSTAMP:20260425T031149Z
DTSTART:20170318T210000
DTEND:20170318T230000
SUMMARY:Prijeki sud
LOCATION:Kino Tuškanac
DESCRIPTION:1978 R: Branko Ivanda
END:VEVENT
END:VCALENDAR