BEGIN:VCALENDAR
VERSION:2.0
PRODID:-//Kino Tuškanac//Filmski programi//HR
BEGIN:VEVENT
UID:bafd209e38029b07bf1fb714f0c909a5@kinotuskanac.hr
DTSTAMP:20260425T015228Z
DTSTART:20170321T190000
DTEND:20170321T210000
SUMMARY:U logoru (1. dio)
LOCATION:Kino Tuškanac
DESCRIPTION:1983 R: Branko Ivanda
END:VEVENT
END:VCALENDAR