BEGIN:VCALENDAR
VERSION:2.0
PRODID:-//Kino Tuškanac//Filmski programi//HR
BEGIN:VEVENT
UID:61651af7db2a49852a0726897d218e51@kinotuskanac.hr
DTSTAMP:20260423T143802Z
DTSTART:20170502T190000
DTEND:20170502T210000
SUMMARY:Lola
LOCATION:Kino Tuškanac
DESCRIPTION:Francuska, Italija, 1961 | Mjesto prikazivanja filma: Kulturno informativni centar KIC (Preradovićeva ul. 5) R: Jacques Demy
END:VEVENT
END:VCALENDAR