BEGIN:VCALENDAR
VERSION:2.0
PRODID:-//Kino Tuškanac//Filmski programi//HR
BEGIN:VEVENT
UID:81b7186108ed6c3e8cc748b147b683d9@kinotuskanac.hr
DTSTAMP:20260422T083207Z
DTSTART:20170508T190000
DTEND:20170508T210000
SUMMARY:Gospođice iz Rocheforta
LOCATION:Kino Tuškanac
DESCRIPTION:Les demoiselles de Rochefort, Francuska, 1967 | Mjesto prikazivanja filma: Kulturno informativni centar KIC (Preradovićeva ul. 5) R: Jacques Demy
END:VEVENT
END:VCALENDAR