BEGIN:VCALENDAR
VERSION:2.0
PRODID:-//Kino Tuškanac//Filmski programi//HR
BEGIN:VEVENT
UID:c36b04b058fac780871ae7cfd52ef9f9@kinotuskanac.hr
DTSTAMP:20260422T083208Z
DTSTART:20170511T183000
DTEND:20170511T203000
SUMMARY:Gospođice iz Rocheforta
LOCATION:Kino Tuškanac
DESCRIPTION:Les demoiselles de Rochefort, Francuska, 1967 | Mjesto prikazivanja filma: Kulturno informativni centar KIC (Preradovićeva ul. 5) R: Jacques Demy
END:VEVENT
END:VCALENDAR