BEGIN:VCALENDAR
VERSION:2.0
PRODID:-//Kino Tuškanac//Filmski programi//HR
BEGIN:VEVENT
UID:d66b1b20663d45eb5c9a34156aca7cc2@kinotuskanac.hr
DTSTAMP:20260423T085951Z
DTSTART:20170626T190000
DTEND:20170626T210000
SUMMARY:Camille Claudel
LOCATION:Kino Tuškanac
DESCRIPTION:1988 R: Bruno Nuytten
END:VEVENT
END:VCALENDAR