BEGIN:VCALENDAR
VERSION:2.0
PRODID:-//Kino Tuškanac//Filmski programi//HR
BEGIN:VEVENT
UID:7e0730237f2f880aac79d2b90ff647ae@kinotuskanac.hr
DTSTAMP:20260423T111359Z
DTSTART:20170627T210000
DTEND:20170627T230000
SUMMARY:Prezir
LOCATION:Kino Tuškanac
DESCRIPTION:Le mépris, Francuska, Italija, 1963 R: Jean-Luc Godard
END:VEVENT
END:VCALENDAR