BEGIN:VCALENDAR
VERSION:2.0
PRODID:-//Kino Tuškanac//Filmski programi//HR
BEGIN:VEVENT
UID:8c914e73ece057d3740067e69b8fe256@kinotuskanac.hr
DTSTAMP:20260423T085627Z
DTSTART:20170701T190000
DTEND:20170701T210000
SUMMARY:Camille Claudel
LOCATION:Kino Tuškanac
DESCRIPTION:1988 R: Bruno Nuytten
END:VEVENT
END:VCALENDAR