BEGIN:VCALENDAR
VERSION:2.0
PRODID:-//Kino Tuškanac//Filmski programi//HR
BEGIN:VEVENT
UID:303d755dd81786dd352c2c878ab78cd3@kinotuskanac.hr
DTSTAMP:20260420T115804Z
DTSTART:20170703T210000
DTEND:20170703T230000
SUMMARY:Rat (2015)
LOCATION:Kino Tuškanac
DESCRIPTION:Krigen, Danska, 2015 R: Tobias Lindholm
END:VEVENT
END:VCALENDAR