BEGIN:VCALENDAR
VERSION:2.0
PRODID:-//Kino Tuškanac//Filmski programi//HR
BEGIN:VEVENT
UID:88674165efbd9f853afa827453144666@kinotuskanac.hr
DTSTAMP:20260420T115900Z
DTSTART:20170704T190000
DTEND:20170704T210000
SUMMARY:Rat (2015)
LOCATION:Kino Tuškanac
DESCRIPTION:Krigen, Danska, 2015 R: Tobias Lindholm
END:VEVENT
END:VCALENDAR