BEGIN:VCALENDAR
VERSION:2.0
PRODID:-//Kino Tuškanac//Filmski programi//HR
BEGIN:VEVENT
UID:6e9ddbc40195b1e4ec727f71168e61c6@kinotuskanac.hr
DTSTAMP:20260425T161941Z
DTSTART:20041016T210000
DTEND:20041016T230000
SUMMARY:Intermeco
LOCATION:Kino Tuškanac
DESCRIPTION:Intermezzo, 1936 R: Gustaf Molander
END:VEVENT
END:VCALENDAR