BEGIN:VCALENDAR
VERSION:2.0
PRODID:-//Kino Tuškanac//Filmski programi//HR
BEGIN:VEVENT
UID:d5c9a86152ee05e572af49f9f6987546@kinotuskanac.hr
DTSTAMP:20260420T115656Z
DTSTART:20170705T210000
DTEND:20170705T230000
SUMMARY:Rat (2015)
LOCATION:Kino Tuškanac
DESCRIPTION:Krigen, Danska, 2015 R: Tobias Lindholm
END:VEVENT
END:VCALENDAR