BEGIN:VCALENDAR
VERSION:2.0
PRODID:-//Kino Tuškanac//Filmski programi//HR
BEGIN:VEVENT
UID:67e223ce5d3c4b760294266bc80ae630@kinotuskanac.hr
DTSTAMP:20260420T115929Z
DTSTART:20170708T210000
DTEND:20170708T230000
SUMMARY:Rat (2015)
LOCATION:Kino Tuškanac
DESCRIPTION:Krigen, Danska, 2015 R: Tobias Lindholm
END:VEVENT
END:VCALENDAR