BEGIN:VCALENDAR
VERSION:2.0
PRODID:-//Kino Tuškanac//Filmski programi//HR
BEGIN:VEVENT
UID:afeb114392f81c280a56a938fbed77eb@kinotuskanac.hr
DTSTAMP:20260423T134230Z
DTSTART:20170515T190000
DTEND:20170515T210000
SUMMARY:Dobre vibracije
LOCATION:Kino Tuškanac
DESCRIPTION:Good Vibrations, 2012 R: Lisa Barros D'Sa, Glenn Leyburn
END:VEVENT
END:VCALENDAR