BEGIN:VCALENDAR
VERSION:2.0
PRODID:-//Kino Tuškanac//Filmski programi//HR
BEGIN:VEVENT
UID:7cb17233ee2ef1f7b4778eeb25318fcb@kinotuskanac.hr
DTSTAMP:20260423T113316Z
DTSTART:20041019T210000
DTEND:20041019T230000
SUMMARY:Lice jedne žene
LOCATION:Kino Tuškanac
DESCRIPTION:En kvinnas ansikte, 1938 R: Gustaf Molander
END:VEVENT
END:VCALENDAR