BEGIN:VCALENDAR
VERSION:2.0
PRODID:-//Kino Tuškanac//Filmski programi//HR
BEGIN:VEVENT
UID:4caac90a9e52beaf39a4c3f79b155bcd@kinotuskanac.hr
DTSTAMP:20260423T160924Z
DTSTART:20170519T190000
DTEND:20170519T210000
SUMMARY:The Yellow Bittern
LOCATION:Kino Tuškanac
DESCRIPTION:2009 R: Alan Gilsenan
END:VEVENT
END:VCALENDAR