BEGIN:VCALENDAR
VERSION:2.0
PRODID:-//Kino Tuškanac//Filmski programi//HR
BEGIN:VEVENT
UID:c54ec476f0596ca8b0ef12285baf17b5@kinotuskanac.hr
DTSTAMP:20260425T203603Z
DTSTART:20170524T200000
DTEND:20170524T220000
SUMMARY:Black Brown White
LOCATION:Kino Tuškanac
DESCRIPTION:2011 R: Erwin Wagenhofer
END:VEVENT
END:VCALENDAR