BEGIN:VCALENDAR
VERSION:2.0
PRODID:-//Kino Tuškanac//Filmski programi//HR
BEGIN:VEVENT
UID:9beb3cd1d2ff8e76ae1dfc495208daee@kinotuskanac.hr
DTSTAMP:20260425T203334Z
DTSTART:20170528T170000
DTEND:20170528T190000
SUMMARY:Dječja magija
LOCATION:Kino Tuškanac
DESCRIPTION:Kinderzauber, 2016 R: Ruth Rieser
END:VEVENT
END:VCALENDAR