BEGIN:VCALENDAR
VERSION:2.0
PRODID:-//Kino Tuškanac//Filmski programi//HR
BEGIN:VEVENT
UID:90658a1f76669b8db046882cef9c395c@kinotuskanac.hr
DTSTAMP:20260422T170925Z
DTSTART:20170603T190000
DTEND:20170603T210000
SUMMARY:Pjesma o Sriwijayi
LOCATION:Kino Tuškanac
DESCRIPTION:Gending Sriwijaya, Indonezija, 2013 R: Hanung Bramantyo, Sugeng Wahyudi
END:VEVENT
END:VCALENDAR