BEGIN:VCALENDAR
VERSION:2.0
PRODID:-//Kino Tuškanac//Filmski programi//HR
BEGIN:VEVENT
UID:656d49617d11f776b445bffba83bf99c@kinotuskanac.hr
DTSTAMP:20260424T051819Z
DTSTART:20170612T170000
DTEND:20170612T190000
SUMMARY:Mare Nostrum
LOCATION:Kino Tuškanac
DESCRIPTION:Francuska, Sirija, 2016 R: Anas Khalaf, Rama Kazkaz
END:VEVENT
END:VCALENDAR