BEGIN:VCALENDAR
VERSION:2.0
PRODID:-//Kino Tuškanac//Filmski programi//HR
BEGIN:VEVENT
UID:2eb68c909cc7fd9a093d95994f0c4a78@kinotuskanac.hr
DTSTAMP:20260419T225101Z
DTSTART:20170612T190000
DTEND:20170612T210000
SUMMARY:Oni (2015)
LOCATION:Kino Tuškanac
DESCRIPTION:Azok, Mađarska, 2015 R: Krisztina Meggyes
END:VEVENT
END:VCALENDAR