BEGIN:VCALENDAR
VERSION:2.0
PRODID:-//Kino Tuškanac//Filmski programi//HR
BEGIN:VEVENT
UID:78db67b891c8249be696077a55a02d15@kinotuskanac.hr
DTSTAMP:20260423T204907Z
DTSTART:20171019T210000
DTEND:20171019T230000
SUMMARY:Gimme Danger
LOCATION:Kino Tuškanac
DESCRIPTION:dokumentarni, glazbeni, 2016 R: Jim Jarmusch
END:VEVENT
END:VCALENDAR