BEGIN:VCALENDAR
VERSION:2.0
PRODID:-//Kino Tuškanac//Filmski programi//HR
BEGIN:VEVENT
UID:b0dfbb46423d53aad245c5f805e92ef9@kinotuskanac.hr
DTSTAMP:20260423T205038Z
DTSTART:20171026T170000
DTEND:20171026T190000
SUMMARY:Gimme Danger
LOCATION:Kino Tuškanac
DESCRIPTION:dokumentarni, glazbeni, 2016 R: Jim Jarmusch
END:VEVENT
END:VCALENDAR