BEGIN:VCALENDAR
VERSION:2.0
PRODID:-//Kino Tuškanac//Filmski programi//HR
BEGIN:VEVENT
UID:e20c6fb16ce5d741e66b524ca2743950@kinotuskanac.hr
DTSTAMP:20260420T165814Z
DTSTART:20170925T164500
DTEND:20170925T184500
SUMMARY:Matura
LOCATION:Kino Tuškanac
DESCRIPTION:Bacalaureat, Belgija, Francuska, Rumunjska, 2016 R: Cristian Mungiu
END:VEVENT
END:VCALENDAR