BEGIN:VCALENDAR
VERSION:2.0
PRODID:-//Kino Tuškanac//Filmski programi//HR
BEGIN:VEVENT
UID:0827d13f2bda9ac702595a851295dcfd@kinotuskanac.hr
DTSTAMP:20260420T165814Z
DTSTART:20171002T170000
DTEND:20171002T190000
SUMMARY:Matura
LOCATION:Kino Tuškanac
DESCRIPTION:Bacalaureat, Belgija, Francuska, Rumunjska, 2016 R: Cristian Mungiu
END:VEVENT
END:VCALENDAR