BEGIN:VCALENDAR
VERSION:2.0
PRODID:-//Kino Tuškanac//Filmski programi//HR
BEGIN:VEVENT
UID:bb6c63d920eaab3b242e7110357bdb19@kinotuskanac.hr
DTSTAMP:20260420T165911Z
DTSTART:20171004T164500
DTEND:20171004T184500
SUMMARY:Matura
LOCATION:Kino Tuškanac
DESCRIPTION:Bacalaureat, Belgija, Francuska, Rumunjska, 2016 R: Cristian Mungiu
END:VEVENT
END:VCALENDAR