BEGIN:VCALENDAR
VERSION:2.0
PRODID:-//Kino Tuškanac//Filmski programi//HR
BEGIN:VEVENT
UID:4f04cba9cc6aef3688c4df557b74ee93@kinotuskanac.hr
DTSTAMP:20260420T165911Z
DTSTART:20171006T164500
DTEND:20171006T184500
SUMMARY:Matura
LOCATION:Kino Tuškanac
DESCRIPTION:Bacalaureat, Belgija, Francuska, Rumunjska, 2016 R: Cristian Mungiu
END:VEVENT
END:VCALENDAR