BEGIN:VCALENDAR
VERSION:2.0
PRODID:-//Kino Tuškanac//Filmski programi//HR
BEGIN:VEVENT
UID:36ba2f3ed067a3a2db4105e6b93941bd@kinotuskanac.hr
DTSTAMP:20260420T174818Z
DTSTART:20170923T170000
DTEND:20170923T190000
SUMMARY:Matura
LOCATION:Kino Tuškanac
DESCRIPTION:Bacalaureat, Belgija, Francuska, Rumunjska, 2016 R: Cristian Mungiu
END:VEVENT
END:VCALENDAR