BEGIN:VCALENDAR
VERSION:2.0
PRODID:-//Kino Tuškanac//Filmski programi//HR
BEGIN:VEVENT
UID:bbc2c03c860e3b6b9febe3274a4f2730@kinotuskanac.hr
DTSTAMP:20260423T091110Z
DTSTART:20170927T190000
DTEND:20170927T210000
SUMMARY:Večer animacije: stop motion u animiranom filmu
LOCATION:Kino Tuškanac
DESCRIPTION:
END:VEVENT
END:VCALENDAR