BEGIN:VCALENDAR
VERSION:2.0
PRODID:-//Kino Tuškanac//Filmski programi//HR
BEGIN:VEVENT
UID:55614b69a004e789815e2d756b85c336@kinotuskanac.hr
DTSTAMP:20260424T233800Z
DTSTART:20170929T190000
DTEND:20170929T210000
SUMMARY:San o ruži
LOCATION:Kino Tuškanac
DESCRIPTION:1986 R: Zoran Tadić
END:VEVENT
END:VCALENDAR