BEGIN:VCALENDAR
VERSION:2.0
PRODID:-//Kino Tuškanac//Filmski programi//HR
BEGIN:VEVENT
UID:645912883194b99308bfd6b819a8f63c@kinotuskanac.hr
DTSTAMP:20260424T212354Z
DTSTART:20170929T210000
DTEND:20170929T230000
SUMMARY:Osuđeni
LOCATION:Kino Tuškanac
DESCRIPTION:1987 R: Zoran Tadić
END:VEVENT
END:VCALENDAR