BEGIN:VCALENDAR
VERSION:2.0
PRODID:-//Kino Tuškanac//Filmski programi//HR
BEGIN:VEVENT
UID:74ffb9e0ea10ad4a766a1120c68c3c49@kinotuskanac.hr
DTSTAMP:20260420T121655Z
DTSTART:20171010T170000
DTEND:20171010T190000
SUMMARY:Nepoznata djevojka
LOCATION:Kino Tuškanac
DESCRIPTION:La fille inconnue, Belgija, Francuska, 2016 R: Jean-Pierre Dardenne, Luc Dardenne
END:VEVENT
END:VCALENDAR