BEGIN:VCALENDAR
VERSION:2.0
PRODID:-//Kino Tuškanac//Filmski programi//HR
BEGIN:VEVENT
UID:2b5a0d3db833ca3b7164a1df827c9be8@kinotuskanac.hr
DTSTAMP:20260420T115725Z
DTSTART:20171020T210000
DTEND:20171020T230000
SUMMARY:Stilistica
LOCATION:Kino Tuškanac
DESCRIPTION:Personal Shopper, Francuska, Njemačka, 2016 R: Olivier Assayas
END:VEVENT
END:VCALENDAR