BEGIN:VCALENDAR
VERSION:2.0
PRODID:-//Kino Tuškanac//Filmski programi//HR
BEGIN:VEVENT
UID:7cfe26cf0400ef707c9b50bee5aaf448@kinotuskanac.hr
DTSTAMP:20260420T115811Z
DTSTART:20171025T170000
DTEND:20171025T190000
SUMMARY:Stilistica
LOCATION:Kino Tuškanac
DESCRIPTION:Personal Shopper, Francuska, Njemačka, 2016 R: Olivier Assayas
END:VEVENT
END:VCALENDAR