BEGIN:VCALENDAR
VERSION:2.0
PRODID:-//Kino Tuškanac//Filmski programi//HR
BEGIN:VEVENT
UID:3d1da1fe5c0361112e99363c1bd1a42f@kinotuskanac.hr
DTSTAMP:20260420T115934Z
DTSTART:20171027T170000
DTEND:20171027T190000
SUMMARY:Stilistica
LOCATION:Kino Tuškanac
DESCRIPTION:Personal Shopper, Francuska, Njemačka, 2016 R: Olivier Assayas
END:VEVENT
END:VCALENDAR