BEGIN:VCALENDAR
VERSION:2.0
PRODID:-//Kino Tuškanac//Filmski programi//HR
BEGIN:VEVENT
UID:df73a81d30a8c0bfc844dabf0a1477e0@kinotuskanac.hr
DTSTAMP:20260423T150441Z
DTSTART:20171017T193000
DTEND:20171017T213000
SUMMARY:Otac Italije
LOCATION:Kino Tuškanac
DESCRIPTION:Il padre d'Italia, Italija, 2017 R: Fabio Mollo
END:VEVENT
END:VCALENDAR