BEGIN:VCALENDAR
VERSION:2.0
PRODID:-//Kino Tuškanac//Filmski programi//HR
BEGIN:VEVENT
UID:f863bd2f163882be3f923e8ee9fc938f@kinotuskanac.hr
DTSTAMP:20260419T230249Z
DTSTART:20171020T190000
DTEND:20171020T210000
SUMMARY:Voda i šećer: Carlo Di Palma, boje života
LOCATION:Kino Tuškanac
DESCRIPTION:Acqua e zucchero: Carlo Di Palma, i colori della vita, Italija, 2016 R: Fariborz Kamkari
END:VEVENT
END:VCALENDAR