BEGIN:VCALENDAR
VERSION:2.0
PRODID:-//Kino Tuškanac//Filmski programi//HR
BEGIN:VEVENT
UID:a529b816ebd9f8c79019260d67509276@kinotuskanac.hr
DTSTAMP:20260420T120626Z
DTSTART:20171009T190000
DTEND:20171009T210000
SUMMARY:Tijelo (2015)
LOCATION:Kino Tuškanac
DESCRIPTION:Cialo, Poljska, 2015 R: Małgorzata Szumowska
END:VEVENT
END:VCALENDAR