BEGIN:VCALENDAR
VERSION:2.0
PRODID:-//Kino Tuškanac//Filmski programi//HR
BEGIN:VEVENT
UID:e4c9bc5b07020087f5719c0e4f6dcf57@kinotuskanac.hr
DTSTAMP:20260421T162714Z
DTSTART:20171030T193000
DTEND:20171030T213000
SUMMARY:Bez filtera
LOCATION:Kino Tuškanac
DESCRIPTION:Sin filtro, Čile, 2016 R: Nicolás López
END:VEVENT
END:VCALENDAR