BEGIN:VCALENDAR
VERSION:2.0
PRODID:-//Kino Tuškanac//Filmski programi//HR
BEGIN:VEVENT
UID:f08c1c09bf0f4f21b4c236cea7aa32da@kinotuskanac.hr
DTSTAMP:20260421T191621Z
DTSTART:20171031T210000
DTEND:20171031T230000
SUMMARY:Andrés čita i piše
LOCATION:Kino Tuškanac
DESCRIPTION:Andrés lee i escribe, Čile, 2016 R: Daniel Peralta
END:VEVENT
END:VCALENDAR