BEGIN:VCALENDAR
VERSION:2.0
PRODID:-//Kino Tuškanac//Filmski programi//HR
BEGIN:VEVENT
UID:4a8d903ebaed4de48f49f1cb14a2411b@kinotuskanac.hr
DTSTAMP:20260420T191257Z
DTSTART:20041123T210000
DTEND:20041123T230000
SUMMARY:Petorica iz ulice Barske
LOCATION:Kino Tuškanac
DESCRIPTION:Piątka z ulicy Barskiej, 1954 R: Aleksander Ford
END:VEVENT
END:VCALENDAR