BEGIN:VCALENDAR
VERSION:2.0
PRODID:-//Kino Tuškanac//Filmski programi//HR
BEGIN:VEVENT
UID:0f9ba35fcf049b34bef372856129144b@kinotuskanac.hr
DTSTAMP:20260420T134525Z
DTSTART:20171105T190000
DTEND:20171105T210000
SUMMARY:Tisuću i jedna noć: Začaran
LOCATION:Kino Tuškanac
DESCRIPTION:As Mil e Uma Noites: Volume 3, O Encantado, Portugal, 2015 R: Miguel Gomes
END:VEVENT
END:VCALENDAR