BEGIN:VCALENDAR
VERSION:2.0
PRODID:-//Kino Tuškanac//Filmski programi//HR
BEGIN:VEVENT
UID:46f245c9ea0aeece451b7505c10df675@kinotuskanac.hr
DTSTAMP:20260420T191321Z
DTSTART:20041130T210000
DTEND:20041130T230000
SUMMARY:Eroica
LOCATION:Kino Tuškanac
DESCRIPTION:1957 R: Andrzej Munk
END:VEVENT
END:VCALENDAR