BEGIN:VCALENDAR
VERSION:2.0
PRODID:-//Kino Tuškanac//Filmski programi//HR
BEGIN:VEVENT
UID:d946793567ca6c605a70ca8bf52c2fcc@kinotuskanac.hr
DTSTAMP:20260420T120504Z
DTSTART:20171031T163000
DTEND:20171031T183000
SUMMARY:Tragovi
LOCATION:Kino Tuškanac
DESCRIPTION:Pokot, Poljska, Njemačka, 2017 R: Agnieszka Holland
END:VEVENT
END:VCALENDAR