BEGIN:VCALENDAR
VERSION:2.0
PRODID:-//Kino Tuškanac//Filmski programi//HR
BEGIN:VEVENT
UID:99597001d1a8767d8512376cff901c37@kinotuskanac.hr
DTSTAMP:20260420T120601Z
DTSTART:20171103T170000
DTEND:20171103T190000
SUMMARY:Tijelo (2015)
LOCATION:Kino Tuškanac
DESCRIPTION:Cialo, Poljska, 2015 R: Małgorzata Szumowska
END:VEVENT
END:VCALENDAR