BEGIN:VCALENDAR
VERSION:2.0
PRODID:-//Kino Tuškanac//Filmski programi//HR
BEGIN:VEVENT
UID:f2fb7ea5010483b23e6af747abfacf74@kinotuskanac.hr
DTSTAMP:20260420T120658Z
DTSTART:20171104T163000
DTEND:20171104T183000
SUMMARY:Tragovi
LOCATION:Kino Tuškanac
DESCRIPTION:Pokot, Poljska, Njemačka, 2017 R: Agnieszka Holland
END:VEVENT
END:VCALENDAR