BEGIN:VCALENDAR
VERSION:2.0
PRODID:-//Kino Tuškanac//Filmski programi//HR
BEGIN:VEVENT
UID:676397e2c323fc2c5bc15d78c0b46a7b@kinotuskanac.hr
DTSTAMP:20260420T120541Z
DTSTART:20171106T170000
DTEND:20171106T190000
SUMMARY:Tragovi
LOCATION:Kino Tuškanac
DESCRIPTION:Pokot, Poljska, Njemačka, 2017 R: Agnieszka Holland
END:VEVENT
END:VCALENDAR