BEGIN:VCALENDAR
VERSION:2.0
PRODID:-//Kino Tuškanac//Filmski programi//HR
BEGIN:VEVENT
UID:9f8a82a3aea3106d52f905a6b9592658@kinotuskanac.hr
DTSTAMP:20260420T191219Z
DTSTART:20041202T210000
DTEND:20041202T230000
SUMMARY:Eva hoće spavati
LOCATION:Kino Tuškanac
DESCRIPTION:Ewa chce spac, 1958 R: Tadeusz Chmielewski
END:VEVENT
END:VCALENDAR