BEGIN:VCALENDAR
VERSION:2.0
PRODID:-//Kino Tuškanac//Filmski programi//HR
BEGIN:VEVENT
UID:f8d6b3e11ad2b178e01c56045c17900c@kinotuskanac.hr
DTSTAMP:20260420T120601Z
DTSTART:20171107T170000
DTEND:20171107T190000
SUMMARY:Tijelo (2015)
LOCATION:Kino Tuškanac
DESCRIPTION:Cialo, Poljska, 2015 R: Małgorzata Szumowska
END:VEVENT
END:VCALENDAR