BEGIN:VCALENDAR
VERSION:2.0
PRODID:-//Kino Tuškanac//Filmski programi//HR
BEGIN:VEVENT
UID:87235bc21c978b248d52001279e9e3af@kinotuskanac.hr
DTSTAMP:20260423T090809Z
DTSTART:20171123T170000
DTEND:20171123T190000
SUMMARY:Trst, Jugoslavija
LOCATION:Kino Tuškanac
DESCRIPTION:Trieste, Yugoslavia, Italija, Hrvatska, Bosna i Hercegovina, 2017 R: Alessio Bozzer
END:VEVENT
END:VCALENDAR